BEGIN:VCALENDAR
PRODID:-//eluceo/ical//2.0/EN
VERSION:2.0
CALSCALE:GREGORIAN
BEGIN:VEVENT
UID:bb26e0f056a7f392d02ce1e8945b64dd
DTSTAMP:20260422T194153Z
SUMMARY:Tisha B'Av
DESCRIPTION:Jewish Federation of Central Massachusetts\nCalendar\nhttps://j
 ewishcentralmass.org/calendar/17cal330\n\nTisha B'Av
DTSTART;TZID=America/New_York:20170801T000100
DTEND;TZID=America/New_York:20170801T235900
END:VEVENT
END:VCALENDAR
