BEGIN:VCALENDAR
PRODID:-//eluceo/ical//2.0/EN
VERSION:2.0
CALSCALE:GREGORIAN
BEGIN:VEVENT
UID:935fa7352aec09373801d214d834259d
DTSTAMP:20260423T184014Z
SUMMARY:Temple Emanuel Sinai Tu Shabbat Service
DESCRIPTION:Jewish Federation of Central Massachusetts\nCalendar\nhttps://j
 ewishcentralmass.org/calendar/17cal328\n\nTemple Emanuel Sinai Tu Shabbat 
 Service
DTSTART;TZID=America/New_York:20160813T193000
DTEND;TZID=America/New_York:20160813T193000
END:VEVENT
END:VCALENDAR
