BEGIN:VCALENDAR
PRODID:-//eluceo/ical//2.0/EN
VERSION:2.0
CALSCALE:GREGORIAN
BEGIN:VEVENT
UID:3992f6cd92ee3a6baad157feabfefa9d
DTSTAMP:20260422T154023Z
SUMMARY:Temple Emanuel Sinai Open House
DESCRIPTION:Jewish Federation of Central Massachusetts\nCalendar\nhttps://j
 ewishcentralmass.org/calendar/17cal327\n\nTemple Emanuel Sinai Open House
DTSTART;TZID=America/New_York:20160827T190000
DTEND;TZID=America/New_York:20160827T210000
END:VEVENT
END:VCALENDAR
