BEGIN:VCALENDAR
PRODID:-//eluceo/ical//2.0/EN
VERSION:2.0
CALSCALE:GREGORIAN
BEGIN:VEVENT
UID:1f408b5c81f74b7c1fa1b1891775034c
DTSTAMP:20260423T125702Z
SUMMARY:Temple Emanuel Sinai Lifelong Learning Brotherhood Coffeehouse
DESCRIPTION:Jewish Federation of Central Massachusetts\nCalendar\nhttps://j
 ewishcentralmass.org/calendar/17cal326\n\nTemple Emanuel Sinai Lifelong Le
 arning Brotherhood Coffeehouse
DTSTART;TZID=America/New_York:20161119T193000
DTEND;TZID=America/New_York:20161119T213000
END:VEVENT
END:VCALENDAR
