BEGIN:VCALENDAR
PRODID:-//eluceo/ical//2.0/EN
VERSION:2.0
CALSCALE:GREGORIAN
BEGIN:VEVENT
UID:6dc7db89799de8c66b93dd965f51218f
DTSTAMP:20260422T072557Z
SUMMARY:Temple Emanuel Sinai Lifelong Learning Brotherhood Breakfast
DESCRIPTION:Jewish Federation of Central Massachusetts\nCalendar\nhttps://j
 ewishcentralmass.org/calendar/17cal325\n\nTemple Emanuel Sinai Lifelong Le
 arning Brotherhood Breakfast
DTSTART;TZID=America/New_York:20170507T093000
DTEND;TZID=America/New_York:20170507T110000
END:VEVENT
END:VCALENDAR
