BEGIN:VCALENDAR
PRODID:-//eluceo/ical//2.0/EN
VERSION:2.0
CALSCALE:GREGORIAN
BEGIN:VEVENT
UID:5c93c79f562e5b7eb001965aa272102d
DTSTAMP:20260421T101143Z
SUMMARY:Temple Emanuel Sinai Lifelong Learning Brotherhood Breakfast
DESCRIPTION:Jewish Federation of Central Massachusetts\nCalendar\nhttps://j
 ewishcentralmass.org/calendar/17cal324\n\nTemple Emanuel Sinai Lifelong Le
 arning Brotherhood Breakfast
DTSTART;TZID=America/New_York:20170401T093000
DTEND;TZID=America/New_York:20170401T110000
END:VEVENT
END:VCALENDAR
