BEGIN:VCALENDAR
PRODID:-//eluceo/ical//2.0/EN
VERSION:2.0
CALSCALE:GREGORIAN
BEGIN:VEVENT
UID:69c1bcbc450763899db2c7ebb80c3f01
DTSTAMP:20260423T130058Z
SUMMARY:Temple Emanuel Sinai Lifelong Learning Brotherhood Breakfast
DESCRIPTION:Jewish Federation of Central Massachusetts\nCalendar\nhttps://j
 ewishcentralmass.org/calendar/17cal323\n\nTemple Emanuel Sinai Lifelong Le
 arning Brotherhood Breakfast
DTSTART;TZID=America/New_York:20170305T093000
DTEND;TZID=America/New_York:20170305T110000
END:VEVENT
END:VCALENDAR
