BEGIN:VCALENDAR
PRODID:-//eluceo/ical//2.0/EN
VERSION:2.0
CALSCALE:GREGORIAN
BEGIN:VEVENT
UID:9564054a3e80839e94afc334b82b5664
DTSTAMP:20260422T165800Z
SUMMARY:Temple Emanuel Sinai Last day of Hewbrew High School
DESCRIPTION:Jewish Federation of Central Massachusetts\nCalendar\nhttps://j
 ewishcentralmass.org/calendar/17cal319\n\nTemple Emanuel Sinai Last day of
  Hewbrew High School
DTSTART;TZID=America/New_York:20170513T090000
DTEND;TZID=America/New_York:20170513T110000
END:VEVENT
END:VCALENDAR
