BEGIN:VCALENDAR
PRODID:-//eluceo/ical//2.0/EN
VERSION:2.0
CALSCALE:GREGORIAN
BEGIN:VEVENT
UID:83941e0a11bfbd75863adf2928c7451e
DTSTAMP:20260422T140630Z
SUMMARY:Temple Emanuel Sinai First Day of Hebrew School
DESCRIPTION:Jewish Federation of Central Massachusetts\nCalendar\nhttps://j
 ewishcentralmass.org/calendar/17cal318\n\nTemple Emanuel Sinai First Day o
 f Hebrew School
DTSTART;TZID=America/New_York:20160917T000000
DTEND;TZID=America/New_York:20160917T000000
END:VEVENT
END:VCALENDAR
