BEGIN:VCALENDAR
PRODID:-//eluceo/ical//2.0/EN
VERSION:2.0
CALSCALE:GREGORIAN
BEGIN:VEVENT
UID:4283ea2c115998c53ed04e7ff9e78d44
DTSTAMP:20260423T034333Z
SUMMARY:Temple Emanuel Sinai Chanukah Party
DESCRIPTION:Jewish Federation of Central Massachusetts\nCalendar\nhttps://j
 ewishcentralmass.org/calendar/17cal316\n\nTemple Emanuel Sinai Chanukah Pa
 rty
DTSTART;TZID=America/New_York:20161218T160000
DTEND;TZID=America/New_York:20161218T200000
END:VEVENT
END:VCALENDAR
