BEGIN:VCALENDAR
PRODID:-//eluceo/ical//2.0/EN
VERSION:2.0
CALSCALE:GREGORIAN
BEGIN:VEVENT
UID:96c5597a28fe4dc75ff5bab75e512d28
DTSTAMP:20260422T221355Z
SUMMARY:Temple Emanuel Sinai Brotherhood Breakfast
DESCRIPTION:Jewish Federation of Central Massachusetts\nCalendar\nhttps://j
 ewishcentralmass.org/calendar/17cal314\n\nTemple Emanuel Sinai Brotherhood
  Breakfast
DTSTART;TZID=America/New_York:20160911T094500
DTEND;TZID=America/New_York:20160911T110000
END:VEVENT
END:VCALENDAR
