BEGIN:VCALENDAR
PRODID:-//eluceo/ical//2.0/EN
VERSION:2.0
CALSCALE:GREGORIAN
BEGIN:VEVENT
UID:79e293f7424b76a40f525736c713f30a
DTSTAMP:20260422T165556Z
SUMMARY:Temple Emanuel Sinai Bro Prog
DESCRIPTION:Jewish Federation of Central Massachusetts\nCalendar\nhttps://j
 ewishcentralmass.org/calendar/17cal313\n\nTemple Emanuel Sinai Bro Prog
DTSTART;TZID=America/New_York:20170429T193000
DTEND;TZID=America/New_York:20170429T210000
END:VEVENT
END:VCALENDAR
