BEGIN:VCALENDAR
PRODID:-//eluceo/ical//2.0/EN
VERSION:2.0
CALSCALE:GREGORIAN
BEGIN:VEVENT
UID:b77494d830ce7ef1d9aefd0457368767
DTSTAMP:20260423T122136Z
SUMMARY:Temple Emanuel Sinai Board Meeting
DESCRIPTION:Jewish Federation of Central Massachusetts\nCalendar\nhttps://j
 ewishcentralmass.org/calendar/17cal311\n\nTemple Emanuel Sinai Board Meeti
 ng
DTSTART;TZID=America/New_York:20170608T193000
DTEND;TZID=America/New_York:20170608T210000
END:VEVENT
END:VCALENDAR
