BEGIN:VCALENDAR
PRODID:-//eluceo/ical//2.0/EN
VERSION:2.0
CALSCALE:GREGORIAN
BEGIN:VEVENT
UID:56f3ffed33014f2c7533220b039e96a2
DTSTAMP:20260422T000756Z
SUMMARY:Temple Emanuel Sinai Board Meeting
DESCRIPTION:Jewish Federation of Central Massachusetts\nCalendar\nhttps://j
 ewishcentralmass.org/calendar/17cal310\n\nTemple Emanuel Sinai Board Meeti
 ng
DTSTART;TZID=America/New_York:20170508T193000
DTEND;TZID=America/New_York:20170508T210000
END:VEVENT
END:VCALENDAR
