BEGIN:VCALENDAR
PRODID:-//eluceo/ical//2.0/EN
VERSION:2.0
CALSCALE:GREGORIAN
BEGIN:VEVENT
UID:9a5a6b3f7df9bebc5a2630549e265edb
DTSTAMP:20260421T122708Z
SUMMARY:Temple Emanuel Sinai Board Meeting
DESCRIPTION:Jewish Federation of Central Massachusetts\nCalendar\nhttps://j
 ewishcentralmass.org/calendar/17cal308\n\nTemple Emanuel Sinai Board Meeti
 ng
DTSTART;TZID=America/New_York:20170222T193000
DTEND;TZID=America/New_York:20170222T210000
END:VEVENT
END:VCALENDAR
