BEGIN:VCALENDAR
PRODID:-//eluceo/ical//2.0/EN
VERSION:2.0
CALSCALE:GREGORIAN
BEGIN:VEVENT
UID:3807530f0d7938c24d71f743c28366e3
DTSTAMP:20260425T033514Z
SUMMARY:Temple Emanuel Sinai Board Meeting
DESCRIPTION:Jewish Federation of Central Massachusetts\nCalendar\nhttps://j
 ewishcentralmass.org/calendar/17cal303\n\nTemple Emanuel Sinai Board Meeti
 ng
DTSTART;TZID=America/New_York:20161010T193000
DTEND;TZID=America/New_York:20161010T210000
END:VEVENT
END:VCALENDAR
