BEGIN:VCALENDAR
PRODID:-//eluceo/ical//2.0/EN
VERSION:2.0
CALSCALE:GREGORIAN
BEGIN:VEVENT
UID:4591cca72513b69d306846b9c8df783d
DTSTAMP:20260422T070549Z
SUMMARY:Temple Emanuel Sinai Board Meeting
DESCRIPTION:Jewish Federation of Central Massachusetts\nCalendar\nhttps://j
 ewishcentralmass.org/calendar/17cal301\n\nTemple Emanuel Sinai Board Meeti
 ng
DTSTART;TZID=America/New_York:20160808T193000
DTEND;TZID=America/New_York:20160808T210000
END:VEVENT
END:VCALENDAR
