BEGIN:VCALENDAR
PRODID:-//eluceo/ical//2.0/EN
VERSION:2.0
CALSCALE:GREGORIAN
BEGIN:VEVENT
UID:282b17fe26fdd13e1b8eba983a0bfc75
DTSTAMP:20260423T143911Z
SUMMARY:Temple Emanuel Sinai Apple Picking
DESCRIPTION:Jewish Federation of Central Massachusetts\nCalendar\nhttps://j
 ewishcentralmass.org/calendar/17cal299\n\nTemple Emanuel Sinai Apple Picki
 ng
DTSTART;TZID=America/New_York:20160918T110000
DTEND;TZID=America/New_York:20160918T130000
END:VEVENT
END:VCALENDAR
