BEGIN:VCALENDAR
PRODID:-//eluceo/ical//2.0/EN
VERSION:2.0
CALSCALE:GREGORIAN
BEGIN:VEVENT
UID:ad70bea5d41c3d0eafec45cd61075e9c
DTSTAMP:20260422T142508Z
SUMMARY:Temple Emanuel Purim
DESCRIPTION:Jewish Federation of Central Massachusetts\nCalendar\nhttps://j
 ewishcentralmass.org/calendar/17cal298\n\nTemple Emanuel Purim
DTSTART;TZID=America/New_York:20170312T163000
DTEND;TZID=America/New_York:20170312T180000
END:VEVENT
END:VCALENDAR
