BEGIN:VCALENDAR
PRODID:-//eluceo/ical//2.0/EN
VERSION:2.0
CALSCALE:GREGORIAN
BEGIN:VEVENT
UID:92afbb339240564f031228fc93a3af38
DTSTAMP:20260420T174609Z
SUMMARY:SUPER SUNDAY
DESCRIPTION:Jewish Federation of Central Massachusetts\nCalendar\nhttps://j
 ewishcentralmass.org/calendar/17cal297\n\nSUPER SUNDAY
DTSTART;TZID=America/New_York:20161030T090000
DTEND;TZID=America/New_York:20161030T140000
END:VEVENT
END:VCALENDAR
