BEGIN:VCALENDAR
PRODID:-//eluceo/ical//2.0/EN
VERSION:2.0
CALSCALE:GREGORIAN
BEGIN:VEVENT
UID:6ab1b0ea630e8827684cc5fce2397751
DTSTAMP:20260422T095334Z
SUMMARY:Sukkot
DESCRIPTION:Jewish Federation of Central Massachusetts\nCalendar\nhttps://j
 ewishcentralmass.org/calendar/17cal296\n\nSukkot
DTSTART;TZID=America/New_York:20161017T000000
DTEND;TZID=America/New_York:20161023T235900
END:VEVENT
END:VCALENDAR
