BEGIN:VCALENDAR
PRODID:-//eluceo/ical//2.0/EN
VERSION:2.0
CALSCALE:GREGORIAN
BEGIN:VEVENT
UID:5951cd40339eb7da50a46ae05bdc7bd7
DTSTAMP:20260425T145208Z
SUMMARY:Simchat Torah
DESCRIPTION:Jewish Federation of Central Massachusetts\nCalendar\nhttps://j
 ewishcentralmass.org/calendar/17cal295\n\nSimchat Torah
DTSTART;TZID=America/New_York:20161025T000000
DTEND;TZID=America/New_York:20161025T235900
END:VEVENT
END:VCALENDAR
