BEGIN:VCALENDAR
PRODID:-//eluceo/ical//2.0/EN
VERSION:2.0
CALSCALE:GREGORIAN
BEGIN:VEVENT
UID:6370f41f7c92d2e2ba951bd372ece7d5
DTSTAMP:20260423T104406Z
SUMMARY:Shemini Atzeret
DESCRIPTION:Jewish Federation of Central Massachusetts\nCalendar\nhttps://j
 ewishcentralmass.org/calendar/17cal294\n\nShemini Atzeret
DTSTART;TZID=America/New_York:20161024T000000
DTEND;TZID=America/New_York:20161024T235900
END:VEVENT
END:VCALENDAR
