BEGIN:VCALENDAR
PRODID:-//eluceo/ical//2.0/EN
VERSION:2.0
CALSCALE:GREGORIAN
BEGIN:VEVENT
UID:93191837c20b9bd8ba5949819d528f04
DTSTAMP:20260422T220728Z
SUMMARY:Shavuot
DESCRIPTION:Jewish Federation of Central Massachusetts\nCalendar\nhttps://j
 ewishcentralmass.org/calendar/17cal293\n\nShavuot
DTSTART;TZID=America/New_York:20170531T000100
DTEND;TZID=America/New_York:20170601T235900
END:VEVENT
END:VCALENDAR
