BEGIN:VCALENDAR
PRODID:-//eluceo/ical//2.0/EN
VERSION:2.0
CALSCALE:GREGORIAN
BEGIN:VEVENT
UID:fc01c6ef84624d96b8e422488efa85d3
DTSTAMP:20260423T184347Z
SUMMARY:Rosh Hashanah
DESCRIPTION:Jewish Federation of Central Massachusetts\nCalendar\nhttps://j
 ewishcentralmass.org/calendar/17cal292\n\nRosh Hashanah
DTSTART;TZID=America/New_York:20161003T000000
DTEND;TZID=America/New_York:20161004T235900
END:VEVENT
END:VCALENDAR
