BEGIN:VCALENDAR
PRODID:-//eluceo/ical//2.0/EN
VERSION:2.0
CALSCALE:GREGORIAN
BEGIN:VEVENT
UID:1fec51b8d73cbe14cb63c7257135b5bb
DTSTAMP:20260424T011123Z
SUMMARY:Presidents Day
DESCRIPTION:Jewish Federation of Central Massachusetts\nCalendar\nhttps://j
 ewishcentralmass.org/calendar/17cal290\n\nPresidents Day
DTSTART;TZID=America/New_York:20170220T000100
DTEND;TZID=America/New_York:20170220T235900
END:VEVENT
END:VCALENDAR
