BEGIN:VCALENDAR
PRODID:-//eluceo/ical//2.0/EN
VERSION:2.0
CALSCALE:GREGORIAN
BEGIN:VEVENT
UID:a10f7511ba82cee1b8b100a41e4d4263
DTSTAMP:20260421T171320Z
SUMMARY:Passover
DESCRIPTION:Jewish Federation of Central Massachusetts\nCalendar\nhttps://j
 ewishcentralmass.org/calendar/17cal289\n\nPassover
DTSTART;TZID=America/New_York:20170411T120100
DTEND;TZID=America/New_York:20170418T235900
END:VEVENT
END:VCALENDAR
