BEGIN:VCALENDAR
PRODID:-//eluceo/ical//2.0/EN
VERSION:2.0
CALSCALE:GREGORIAN
BEGIN:VEVENT
UID:3c6083444f855aa836223bff1808f48a
DTSTAMP:20260423T125806Z
SUMMARY:New Years
DESCRIPTION:Jewish Federation of Central Massachusetts\nCalendar\nhttps://j
 ewishcentralmass.org/calendar/17cal288\n\nNew Years
DTSTART;TZID=America/New_York:20170101T000100
DTEND;TZID=America/New_York:20170101T235900
END:VEVENT
END:VCALENDAR
