BEGIN:VCALENDAR
PRODID:-//eluceo/ical//2.0/EN
VERSION:2.0
CALSCALE:GREGORIAN
BEGIN:VEVENT
UID:84f8b1721c4b321ee3a8b1e374a86f06
DTSTAMP:20260424T111920Z
SUMMARY:Mother's Day
DESCRIPTION:Jewish Federation of Central Massachusetts\nCalendar\nhttps://j
 ewishcentralmass.org/calendar/17cal287\n\nMother's Day
DTSTART;TZID=America/New_York:20170514T000100
DTEND;TZID=America/New_York:20170514T235900
END:VEVENT
END:VCALENDAR
