BEGIN:VCALENDAR
PRODID:-//eluceo/ical//2.0/EN
VERSION:2.0
CALSCALE:GREGORIAN
BEGIN:VEVENT
UID:7b0f77e45eeb66381fa81feffd08b3a9
DTSTAMP:20260422T141720Z
SUMMARY:Lag Ba'Omer
DESCRIPTION:Jewish Federation of Central Massachusetts\nCalendar\nhttps://j
 ewishcentralmass.org/calendar/17cal284\n\nLag Ba'Omer
DTSTART;TZID=America/New_York:20170514T000100
DTEND;TZID=America/New_York:20170514T235900
END:VEVENT
END:VCALENDAR
