BEGIN:VCALENDAR
PRODID:-//eluceo/ical//2.0/EN
VERSION:2.0
CALSCALE:GREGORIAN
BEGIN:VEVENT
UID:b1f3d744a7cfd138553059ccbbf09f22
DTSTAMP:20260422T124727Z
SUMMARY:Labor Day
DESCRIPTION:Jewish Federation of Central Massachusetts\nCalendar\nhttps://j
 ewishcentralmass.org/calendar/17cal283\n\nLabor Day
DTSTART;TZID=America/New_York:20160905T000100
DTEND;TZID=America/New_York:20160905T235900
END:VEVENT
END:VCALENDAR
