BEGIN:VCALENDAR
PRODID:-//eluceo/ical//2.0/EN
VERSION:2.0
CALSCALE:GREGORIAN
BEGIN:VEVENT
UID:81ac05589daac71f81b457b8c0feaf47
DTSTAMP:20260422T232309Z
SUMMARY:JFCM Chaverim Event
DESCRIPTION:Jewish Federation of Central Massachusetts\nCalendar\nhttps://j
 ewishcentralmass.org/calendar/17cal280\n\nJFCM Chaverim Event
DTSTART;TZID=America/New_York:20161119T190000
DTEND;TZID=America/New_York:20161119T210000
END:VEVENT
END:VCALENDAR
