BEGIN:VCALENDAR
PRODID:-//eluceo/ical//2.0/EN
VERSION:2.0
CALSCALE:GREGORIAN
BEGIN:VEVENT
UID:c904a0c295ac9bd16ae3e90ced3e7168
DTSTAMP:20260422T140330Z
SUMMARY:Jewish Women's Program community event with Mentalist\, John Stetso
 n
DESCRIPTION:Jewish Federation of Central Massachusetts\nCalendar\nhttps://j
 ewishcentralmass.org/calendar/17cal279\n\nJewish Women's Program community
  event with Mentalist\, John Stetson
DTSTART;TZID=America/New_York:20160921T190000
DTEND;TZID=America/New_York:20160921T210000
END:VEVENT
END:VCALENDAR
