BEGIN:VCALENDAR
PRODID:-//eluceo/ical//2.0/EN
VERSION:2.0
CALSCALE:GREGORIAN
BEGIN:VEVENT
UID:424400cce7a5ddcdefa31047777945f3
DTSTAMP:20260423T212456Z
SUMMARY:Jewish War Veterans Flag Day
DESCRIPTION:Jewish Federation of Central Massachusetts\nCalendar\nhttps://j
 ewishcentralmass.org/calendar/17cal277\n\nJewish War Veterans Flag Day
DTSTART;TZID=America/New_York:20170521T090000
DTEND;TZID=America/New_York:20170521T120000
END:VEVENT
END:VCALENDAR
