BEGIN:VCALENDAR
PRODID:-//eluceo/ical//2.0/EN
VERSION:2.0
CALSCALE:GREGORIAN
BEGIN:VEVENT
UID:9fb015bb0921f2a64282a735c5b450c0
DTSTAMP:20260424T095024Z
SUMMARY:Jewish War Veterans Breakfast
DESCRIPTION:Jewish Federation of Central Massachusetts\nCalendar\nhttps://j
 ewishcentralmass.org/calendar/17cal276\n\nJewish War Veterans Breakfast
DTSTART;TZID=America/New_York:20170618T100000
DTEND;TZID=America/New_York:20170618T110000
END:VEVENT
END:VCALENDAR
