BEGIN:VCALENDAR
PRODID:-//eluceo/ical//2.0/EN
VERSION:2.0
CALSCALE:GREGORIAN
BEGIN:VEVENT
UID:cb6f6ade37c26b66b74ea7f9d27a4d91
DTSTAMP:20260421T051318Z
SUMMARY:Jewish War Veterans Breakfast
DESCRIPTION:Jewish Federation of Central Massachusetts\nCalendar\nhttps://j
 ewishcentralmass.org/calendar/17cal274\n\nJewish War Veterans Breakfast
DTSTART;TZID=America/New_York:20170326T090000
DTEND;TZID=America/New_York:20170326T110000
END:VEVENT
END:VCALENDAR
