BEGIN:VCALENDAR
PRODID:-//eluceo/ical//2.0/EN
VERSION:2.0
CALSCALE:GREGORIAN
BEGIN:VEVENT
UID:586987217a271be1558a223064ebe26c
DTSTAMP:20260421T144751Z
SUMMARY:Jewish War Veterans Breakfast
DESCRIPTION:Jewish Federation of Central Massachusetts\nCalendar\nhttps://j
 ewishcentralmass.org/calendar/17cal272\n\nJewish War Veterans Breakfast
DTSTART;TZID=America/New_York:20170122T090000
DTEND;TZID=America/New_York:20170122T110000
END:VEVENT
END:VCALENDAR
