BEGIN:VCALENDAR
PRODID:-//eluceo/ical//2.0/EN
VERSION:2.0
CALSCALE:GREGORIAN
BEGIN:VEVENT
UID:ed0ffc92ce315fa148dfb143ae080a5c
DTSTAMP:20260423T060644Z
SUMMARY:Jewish War Veterans Breakfast
DESCRIPTION:Jewish Federation of Central Massachusetts\nCalendar\nhttps://j
 ewishcentralmass.org/calendar/17cal270\n\nJewish War Veterans Breakfast
DTSTART;TZID=America/New_York:20161120T093000
DTEND;TZID=America/New_York:20161120T113000
END:VEVENT
END:VCALENDAR
