BEGIN:VCALENDAR
PRODID:-//eluceo/ical//2.0/EN
VERSION:2.0
CALSCALE:GREGORIAN
BEGIN:VEVENT
UID:00730d2685b77f444ebb16ab576d8d98
DTSTAMP:20260422T000957Z
SUMMARY:Jewish War Veterans Breakfast
DESCRIPTION:Jewish Federation of Central Massachusetts\nCalendar\nhttps://j
 ewishcentralmass.org/calendar/17cal269\n\nJewish War Veterans Breakfast
DTSTART;TZID=America/New_York:20161023T093000
DTEND;TZID=America/New_York:20161023T110000
END:VEVENT
END:VCALENDAR
