BEGIN:VCALENDAR
PRODID:-//eluceo/ical//2.0/EN
VERSION:2.0
CALSCALE:GREGORIAN
BEGIN:VEVENT
UID:3f9d6e1e7763b76a43f365cafdd17eca
DTSTAMP:20260421T064127Z
SUMMARY:Jewish Healthcare Center Road Race
DESCRIPTION:Jewish Federation of Central Massachusetts\nCalendar\nhttps://j
 ewishcentralmass.org/calendar/17cal267\n\nJewish Healthcare Center Road Ra
 ce
DTSTART;TZID=America/New_York:20170917T100000
DTEND;TZID=America/New_York:20170917T120000
END:VEVENT
END:VCALENDAR
