BEGIN:VCALENDAR
PRODID:-//eluceo/ical//2.0/EN
VERSION:2.0
CALSCALE:GREGORIAN
BEGIN:VEVENT
UID:692d7cf0da76506de6beb8a2c637deac
DTSTAMP:20260424T112840Z
SUMMARY:Jewish Healthcare Center President Club Dinner
DESCRIPTION:Jewish Federation of Central Massachusetts\nCalendar\nhttps://j
 ewishcentralmass.org/calendar/17cal265\n\nJewish Healthcare Center Preside
 nt Club Dinner
DTSTART;TZID=America/New_York:20170607T173000
DTEND;TZID=America/New_York:20170607T200000
END:VEVENT
END:VCALENDAR
