BEGIN:VCALENDAR
PRODID:-//eluceo/ical//2.0/EN
VERSION:2.0
CALSCALE:GREGORIAN
BEGIN:VEVENT
UID:9c06418ae189d7d9763b9a7818c4d1b1
DTSTAMP:20260422T232955Z
SUMMARY:Jewish Healthcare Center Golf Tournament
DESCRIPTION:Jewish Federation of Central Massachusetts\nCalendar\nhttps://j
 ewishcentralmass.org/calendar/17cal264\n\nJewish Healthcare Center Golf To
 urnament
DTSTART;TZID=America/New_York:20170731T090000
DTEND;TZID=America/New_York:20170731T090000
END:VEVENT
END:VCALENDAR
