BEGIN:VCALENDAR
PRODID:-//eluceo/ical//2.0/EN
VERSION:2.0
CALSCALE:GREGORIAN
BEGIN:VEVENT
UID:2872e09d3bde8aac169696bdeed307cc
DTSTAMP:20260421T110852Z
SUMMARY:Jewish Healthcare Center Donor Luncheon
DESCRIPTION:Jewish Federation of Central Massachusetts\nCalendar\nhttps://j
 ewishcentralmass.org/calendar/17cal262\n\nJewish Healthcare Center Donor L
 uncheon
DTSTART;TZID=America/New_York:20170524T000000
DTEND;TZID=America/New_York:20170524T140000
END:VEVENT
END:VCALENDAR
