BEGIN:VCALENDAR
PRODID:-//eluceo/ical//2.0/EN
VERSION:2.0
CALSCALE:GREGORIAN
BEGIN:VEVENT
UID:0eff39f3736af8ff7eeaede0b99e8e8a
DTSTAMP:20260423T164202Z
SUMMARY:Jewish Healthcare Center Board Meeting
DESCRIPTION:Jewish Federation of Central Massachusetts\nCalendar\nhttps://j
 ewishcentralmass.org/calendar/17cal261\n\nJewish Healthcare Center Board M
 eeting
DTSTART;TZID=America/New_York:20170515T193000
DTEND;TZID=America/New_York:20170515T210000
END:VEVENT
END:VCALENDAR
