BEGIN:VCALENDAR
PRODID:-//eluceo/ical//2.0/EN
VERSION:2.0
CALSCALE:GREGORIAN
BEGIN:VEVENT
UID:557f5e6338bca768fde41d5a1caaaf0e
DTSTAMP:20260422T211643Z
SUMMARY:Jewish Healthcare Center Board Meeting
DESCRIPTION:Jewish Federation of Central Massachusetts\nCalendar\nhttps://j
 ewishcentralmass.org/calendar/17cal260\n\nJewish Healthcare Center Board M
 eeting
DTSTART;TZID=America/New_York:20170320T193000
DTEND;TZID=America/New_York:20170320T210000
END:VEVENT
END:VCALENDAR
