BEGIN:VCALENDAR
PRODID:-//eluceo/ical//2.0/EN
VERSION:2.0
CALSCALE:GREGORIAN
BEGIN:VEVENT
UID:e725b809dba167baab6e22ba84734be2
DTSTAMP:20260422T135323Z
SUMMARY:Jewish Healthcare Center Annual Meeting
DESCRIPTION:Jewish Federation of Central Massachusetts\nCalendar\nhttps://j
 ewishcentralmass.org/calendar/17cal256\n\nJewish Healthcare Center Annual 
 Meeting
DTSTART;TZID=America/New_York:20170621T173000
DTEND;TZID=America/New_York:20170621T200000
END:VEVENT
END:VCALENDAR
