BEGIN:VCALENDAR
PRODID:-//eluceo/ical//2.0/EN
VERSION:2.0
CALSCALE:GREGORIAN
BEGIN:VEVENT
UID:083fef5385a006089e65444889434fa2
DTSTAMP:20260423T075312Z
SUMMARY:Jewish Federation of Central Mass Torathon
DESCRIPTION:Jewish Federation of Central Massachusetts\nCalendar\nhttps://j
 ewishcentralmass.org/calendar/17cal255\n\nJewish Federation of Central Mas
 s Torathon
DTSTART;TZID=America/New_York:20161112T180000
DTEND;TZID=America/New_York:20161112T230000
END:VEVENT
END:VCALENDAR
