BEGIN:VCALENDAR
PRODID:-//eluceo/ical//2.0/EN
VERSION:2.0
CALSCALE:GREGORIAN
BEGIN:VEVENT
UID:a8b93776406bc0051422fecb69a1d5c7
DTSTAMP:20260421T073306Z
SUMMARY:Jewish Federation of Central Mass Board Meeting
DESCRIPTION:Jewish Federation of Central Massachusetts\nCalendar\nhttps://j
 ewishcentralmass.org/calendar/17cal253\n\nJewish Federation of Central Mas
 s Board Meeting
DTSTART;TZID=America/New_York:20170502T193000
DTEND;TZID=America/New_York:20170502T210000
END:VEVENT
END:VCALENDAR
