BEGIN:VCALENDAR
PRODID:-//eluceo/ical//2.0/EN
VERSION:2.0
CALSCALE:GREGORIAN
BEGIN:VEVENT
UID:f5f324df4a6e920848687dc0adc97bea
DTSTAMP:20260423T032958Z
SUMMARY:Jewish Federation of Central Mass Board Meeting
DESCRIPTION:Jewish Federation of Central Massachusetts\nCalendar\nhttps://j
 ewishcentralmass.org/calendar/17cal251\n\nJewish Federation of Central Mas
 s Board Meeting
DTSTART;TZID=America/New_York:20170307T193000
DTEND;TZID=America/New_York:20170307T210000
END:VEVENT
END:VCALENDAR
