BEGIN:VCALENDAR
PRODID:-//eluceo/ical//2.0/EN
VERSION:2.0
CALSCALE:GREGORIAN
BEGIN:VEVENT
UID:4ed10bc88fedf054c619f176ded53728
DTSTAMP:20260421T072156Z
SUMMARY:Jewish Federation of Central Mass Board Meeting
DESCRIPTION:Jewish Federation of Central Massachusetts\nCalendar\nhttps://j
 ewishcentralmass.org/calendar/17cal250\n\nJewish Federation of Central Mas
 s Board Meeting
DTSTART;TZID=America/New_York:20170207T193000
DTEND;TZID=America/New_York:20170207T210000
END:VEVENT
END:VCALENDAR
